BEGIN:VCALENDAR
VERSION:2.0
PRODID:http://www.derida-dance.com/qs/
METHOD:PUBLISH
BEGIN:VEVENT
UID:8EE51CAAA2
ORGANIZER;CN="Atanas Maev":MAILTO:info@derida-dance.com
SUMMARY:MONOCROSSING- 22.03, 19:30 часа
LOCATION:Derida Dance Center (Бул. Сливница 245, София)
DESCRIPTION:Ко-продукция на Derida Dance и Cntral Europe Dance Theater Спектакълът е с ниминация за награда ИКАР и ще бъде представен в рамките на Софийски Театрален Салон.  
CLASS:PUBLIC
DTSTART:20140322T193000
DTEND:20140322T203000
DTSTAMP:20260421T011020
BEGIN:VALARM
TRIGGER:-PT1440M
ACTION:DISPLAY
DESCRIPTION:Reminder
END:VALARM
END:VEVENT
END:VCALENDAR