BEGIN:VCALENDAR
VERSION:2.0
PRODID:http://www.derida-dance.com/qs/
METHOD:PUBLISH
BEGIN:VEVENT
UID:42D2A6AD49
ORGANIZER;CN="Jeni Petrova":MAILTO:office@derida-dance.com
SUMMARY:Trauma - представление на Dance PORT Derida 2016/2017
LOCATION:Derida Dance Center, бул. Сливница 245
DESCRIPTION:За склонността да се връщаме към травмиращото, за да черпим удоволствие от него.
CLASS:PUBLIC
DTSTART:20171202T193000
DTEND:20171202T203000
DTSTAMP:20260423T184132
BEGIN:VALARM
TRIGGER:-PT1440M
ACTION:DISPLAY
DESCRIPTION:Reminder
END:VALARM
END:VEVENT
END:VCALENDAR